BEGIN:VCALENDAR
VERSION:2.0
PRODID:-//Wereldwijnen - ECPv6.15.20//NONSGML v1.0//EN
CALSCALE:GREGORIAN
METHOD:PUBLISH
X-ORIGINAL-URL:https://wereld-wijnen.com
X-WR-CALDESC:Evenementen voor Wereldwijnen
REFRESH-INTERVAL;VALUE=DURATION:PT1H
X-Robots-Tag:noindex
X-PUBLISHED-TTL:PT1H
BEGIN:VTIMEZONE
TZID:UTC
BEGIN:STANDARD
TZOFFSETFROM:+0000
TZOFFSETTO:+0000
TZNAME:UTC
DTSTART:20180101T000000
END:STANDARD
END:VTIMEZONE
BEGIN:VEVENT
DTSTART;TZID=UTC:20191117T133000
DTEND;TZID=UTC:20191117T173000
DTSTAMP:20260420T185341
CREATED:20170821T172213Z
LAST-MODIFIED:20190910T085315Z
UID:3864-1573997400-1574011800@wereld-wijnen.com
SUMMARY:Culinaire wijn-proeverij 17 november
DESCRIPTION:Culinaire wijn-proeverij \nEen heerlijke proefmiddag staat op het programma.\nVan 13.30 tot 17.30 is de zaal open.\n \nEen middag vol smaak!\nMeer dan 40 soorten wijn staan open.\nLive gerolde Sushi van Sushiclass.\nHeerlijke broden van bakker Ammerlaan.\nLekkernijen van Keurslager Clemens.\nLuxe Hapjes van Mevr. Kortekaas.\nRijk gevulde Kaastafel.\nPakketten en geschenken voor uw relaties.\nUiteraard is u favorieten wijn direct te bestellen deze middag. \nMasterclass\nOm 13:00 begint de Masterclass ” V.I.P. Wines”\nHier zullen we 6 bijzondere wijnen proeven onder begeleiding van onze vinoloog.\nDeze masterclass duurt tot 13.45 en daarna gaan we de grote zaal in.\nHier kunnen de ander wijnen vrij geproefd worden.\nLet op reserveer hier apart voor !\n \nLaat even weten of je komt.\ninfo@wereld-wijnen.com\n0612277605 \nLocatie:\nHaven 4 te Lisse\nReserveren kan via info@wereld-wijnen.com\n0612277605 \n 
URL:https://wereld-wijnen.com/agendapunt/culinaire-wijn-proeverij/
LOCATION:haven 4\, Haven 4\, Lisse\, Zuid Holland\, 2161 hk\, Nederland
ATTACH;FMTTYPE=image/jpeg:https://wereld-wijnen.com/wp-content/uploads/2015/09/rode-wijn.jpg
ORGANIZER;CN="Wereld Wijnen":MAILTO:info@wereld-wijnen.com
END:VEVENT
END:VCALENDAR