BEGIN:VCALENDAR
VERSION:2.0
PRODID:-//Wereldwijnen - ECPv6.15.20//NONSGML v1.0//EN
CALSCALE:GREGORIAN
METHOD:PUBLISH
X-WR-CALNAME:Wereldwijnen
X-ORIGINAL-URL:https://wereld-wijnen.com
X-WR-CALDESC:Evenementen voor Wereldwijnen
REFRESH-INTERVAL;VALUE=DURATION:PT1H
X-Robots-Tag:noindex
X-PUBLISHED-TTL:PT1H
BEGIN:VTIMEZONE
TZID:Europe/Amsterdam
BEGIN:DAYLIGHT
TZOFFSETFROM:+0100
TZOFFSETTO:+0200
TZNAME:CEST
DTSTART:20200329T010000
END:DAYLIGHT
BEGIN:STANDARD
TZOFFSETFROM:+0200
TZOFFSETTO:+0100
TZNAME:CET
DTSTART:20201025T010000
END:STANDARD
BEGIN:DAYLIGHT
TZOFFSETFROM:+0100
TZOFFSETTO:+0200
TZNAME:CEST
DTSTART:20210328T010000
END:DAYLIGHT
BEGIN:STANDARD
TZOFFSETFROM:+0200
TZOFFSETTO:+0100
TZNAME:CET
DTSTART:20211031T010000
END:STANDARD
BEGIN:DAYLIGHT
TZOFFSETFROM:+0100
TZOFFSETTO:+0200
TZNAME:CEST
DTSTART:20220327T010000
END:DAYLIGHT
BEGIN:STANDARD
TZOFFSETFROM:+0200
TZOFFSETTO:+0100
TZNAME:CET
DTSTART:20221030T010000
END:STANDARD
END:VTIMEZONE
BEGIN:VEVENT
DTSTART;TZID=Europe/Amsterdam:20210514T173000
DTEND;TZID=Europe/Amsterdam:20210514T193000
DTSTAMP:20260421T152707
CREATED:20210410T163957Z
LAST-MODIFIED:20210412T110803Z
UID:6550-1621013400-1621020600@wereld-wijnen.com
SUMMARY:Workshop Sushi en Wijn 14 mei 2021
DESCRIPTION:[vc_row][vc_column][vc_column_text] \n14 mei gaan Sushi-Class en Wereld Wijnen een mooi avontuur aan! \nWat kan je verwachten? Heerlijke Sushi/mooie wijnen/live sushi rollen/wijn-spijs/gezelligheid. \nOnline (via Facebook) gaan we live met jullie de lekkerste sushi maken die we kunnen bedenken. Dit gaan we stap voor stap met elkaar doen en binnen 1.5 uur kunnen jullie aan tafel met de zelf gemaakte sushi uiteraard met de bijpassende wijnen. \nTijdens de workshop vertellen Tamara en ik alles wat je moet weten en volgen jullie haar instructies op. Zelf zal ik ook live de sushi meerollen en ondertussen vragen stellen aan Tamara. Ook zal ik uitleg geven over welke soort wijn nu lekker zijn bij sushi en zullen dit ook met elkaar proeven.   \nWe zenden Live uit via Facebook en met de chat kunnen jullie vragen stellen welke ik dan aan Tamara zal voorleggen zodat het gezellig en interactief bezig zullen zijn. \nAanmelden kan via info@wereld-wijnen.com of 0612277605 een berichtje sturen kan ook.\nKosten zijn € 49.50 p.p. Deelname minimaal 2 personen. \nAfhalen van de ingrediënten en wijnen zal op 14 mei zijn bij Sushi Class aan de Vennestraat 30  in Lisse. \n[/vc_column_text][/vc_column][/vc_row]
URL:https://wereld-wijnen.com/agendapunt/workshop-sushi-en-wijn-14-mei-2021/
LOCATION:Online
ORGANIZER;CN="Wereld Wijnen":MAILTO:info@wereld-wijnen.com
END:VEVENT
END:VCALENDAR