BEGIN:VCALENDAR
VERSION:2.0
PRODID:-//Wereldwijnen - ECPv6.15.20//NONSGML v1.0//EN
CALSCALE:GREGORIAN
METHOD:PUBLISH
X-WR-CALNAME:Wereldwijnen
X-ORIGINAL-URL:https://wereld-wijnen.com
X-WR-CALDESC:Evenementen voor Wereldwijnen
REFRESH-INTERVAL;VALUE=DURATION:PT1H
X-Robots-Tag:noindex
X-PUBLISHED-TTL:PT1H
BEGIN:VTIMEZONE
TZID:Europe/Amsterdam
BEGIN:DAYLIGHT
TZOFFSETFROM:+0100
TZOFFSETTO:+0200
TZNAME:CEST
DTSTART:20190331T010000
END:DAYLIGHT
BEGIN:STANDARD
TZOFFSETFROM:+0200
TZOFFSETTO:+0100
TZNAME:CET
DTSTART:20191027T010000
END:STANDARD
BEGIN:DAYLIGHT
TZOFFSETFROM:+0100
TZOFFSETTO:+0200
TZNAME:CEST
DTSTART:20200329T010000
END:DAYLIGHT
BEGIN:STANDARD
TZOFFSETFROM:+0200
TZOFFSETTO:+0100
TZNAME:CET
DTSTART:20201025T010000
END:STANDARD
BEGIN:DAYLIGHT
TZOFFSETFROM:+0100
TZOFFSETTO:+0200
TZNAME:CEST
DTSTART:20210328T010000
END:DAYLIGHT
BEGIN:STANDARD
TZOFFSETFROM:+0200
TZOFFSETTO:+0100
TZNAME:CET
DTSTART:20211031T010000
END:STANDARD
END:VTIMEZONE
BEGIN:VEVENT
DTSTART;TZID=Europe/Amsterdam:20201114T193000
DTEND;TZID=Europe/Amsterdam:20201114T220000
DTSTAMP:20260422T030730
CREATED:20201027T153502Z
LAST-MODIFIED:20201028T124723Z
UID:6215-1605382200-1605391200@wereld-wijnen.com
SUMMARY:Wijn-Quizz 14 november
DESCRIPTION:‘De gezelligste (wijn)quiz” vermaakt in Corona tijd  \nWereld-Wijnen\, Kwis-Spelen en Landwinkel Pennings gaan op zaterdag 14 november voor vertier zorgen in een periode waarin vooral activiteiten zijn afgeblazen. ‘De gezelligste (wijn)quiz” zal coronaproof in de huiskamers worden aangeboden. Binnen enkele dagen schreven al meer dan 50 deelnemers zich in. \nVia een livestream op Facebook worden de quizvragen afgeschoten op deelnemende teams die qua grootte zijn gehouden aan de volgens de regels geldende maxima. Het bijbehorende wijnpakket met lekkere hapjes\, maakt de gezellige avond compleet. \nHubert Habers en Jorit Doeswijk van Kwis-Spelen zorgen voor de vragen. “Deze zijn zoals men van ons gewend is\, van algemene aard en voorzien van grappige filmpjes. Natuurlijk zoeken we de raakvlakken met wijn op\, zodat de deelnemers ook het nodige kunnen leren van de kennis van wijnspecialist Martijn Claassen van Wereld-Wijnen\, die samen met ons de quiz vanuit zijn winkel zal presenteren. Maar ook als je geen wijnkenner bent\, kun je prima meedoen.” Martijn: “Om de quiz een extra dimensie te geven vullen wij een box met 4 wijnen en wat lekkers (o.a. kaas\, crostini\, smeersels gedroogde worst\, olie\, aceto) voor op tafel. De deelnemers kunnen deze voorafgaand aan de quiz in de winkel afhalen. De prijs is €25 p.p. met een minimale deelname van 2 personen. Inschrijven kan via info@wereld-wijnen.com
URL:https://wereld-wijnen.com/agendapunt/wijn-quizz-14-november/
LOCATION:Winkel\, Heereweg 175\, Lisse\, 2161BC\, Nederland
ATTACH;FMTTYPE=image/jpeg:https://wereld-wijnen.com/wp-content/uploads/2016/09/Wijnquiz-FB.jpg
ORGANIZER;CN="Wereld Wijnen":MAILTO:info@wereld-wijnen.com
END:VEVENT
END:VCALENDAR