BEGIN:VCALENDAR
VERSION:2.0
PRODID:-//Wereldwijnen - ECPv6.15.20//NONSGML v1.0//EN
CALSCALE:GREGORIAN
METHOD:PUBLISH
X-ORIGINAL-URL:https://wereld-wijnen.com
X-WR-CALDESC:Evenementen voor Wereldwijnen
REFRESH-INTERVAL;VALUE=DURATION:PT1H
X-Robots-Tag:noindex
X-PUBLISHED-TTL:PT1H
BEGIN:VTIMEZONE
TZID:UTC
BEGIN:STANDARD
TZOFFSETFROM:+0000
TZOFFSETTO:+0000
TZNAME:UTC
DTSTART:20170101T000000
END:STANDARD
END:VTIMEZONE
BEGIN:VEVENT
DTSTART;TZID=UTC:20180525T183000
DTEND;TZID=UTC:20180525T223000
DTSTAMP:20260424T072106
CREATED:20180131T100338Z
LAST-MODIFIED:20180131T100509Z
UID:3926-1527273000-1527287400@wereld-wijnen.com
SUMMARY:Wijn-Spijs 25 mei 2018
DESCRIPTION:25 mei wijn-spijs \nHet feest der smaken een avond uit met een 10 wijnen\n5 gangen\, uitleg\, proeven\, ruiken\, en genieten \nHet menu volgt snel.\nReserveren
URL:https://wereld-wijnen.com/agendapunt/wijn-spijs-25-mei-2018/
LOCATION:Restaurant De Vier Seizoenen\, Heereweg 224\, Lisse
ATTACH;FMTTYPE=image/png:https://wereld-wijnen.com/wp-content/uploads/2015/03/proefmetmartijn.png
ORGANIZER;CN="Wereld Wijnen":MAILTO:info@wereld-wijnen.com
END:VEVENT
END:VCALENDAR