BEGIN:VCALENDAR
VERSION:2.0
PRODID:-//Wereldwijnen - ECPv6.15.20//NONSGML v1.0//EN
CALSCALE:GREGORIAN
METHOD:PUBLISH
X-ORIGINAL-URL:https://wereld-wijnen.com
X-WR-CALDESC:Evenementen voor Wereldwijnen
REFRESH-INTERVAL;VALUE=DURATION:PT1H
X-Robots-Tag:noindex
X-PUBLISHED-TTL:PT1H
BEGIN:VTIMEZONE
TZID:UTC
BEGIN:STANDARD
TZOFFSETFROM:+0000
TZOFFSETTO:+0000
TZNAME:UTC
DTSTART:20160101T000000
END:STANDARD
END:VTIMEZONE
BEGIN:VEVENT
DTSTART;TZID=UTC:20171027T183000
DTEND;TZID=UTC:20171027T230000
DTSTAMP:20260424T184801
CREATED:20170830T070004Z
LAST-MODIFIED:20170830T070004Z
UID:3869-1509129000-1509145200@wereld-wijnen.com
SUMMARY:Wijn-Spijsavond 27 oktober
DESCRIPTION:Elk seizoen houden we onze\, inmiddels befaamde Wijn- en Spijsavond\, om het nieuwe seizoen in te luiden. De kaart voor deze avond is volledig toegespitst op het betreffende seizoen en de daarbij passende ingrediënten. \nU geniet van een heerlijk en exclusief 5-gangen menu\, inclusief aperitief\, amuses\, wijn en koffie of thee met friandises. Er zullen twee wijnen per gerecht worden geschonken op die avond. De wijnen worden voor dit menu speciaal geselecteerd door onze sommelier en importeur Martijn Claassen van wereld wijnen. Over de spijzen en de bijbehorende wijnen krijgt u uitgebreid uitleg en u kunt al uw vragen stellen aan Martijn Claassen of onze vakkundige bediening. \nSchroom niet om hun kennis te testen op de komende Wijn- en Spijsavond op vrijdag 27 oktober as. vanaf 18.30 uur. Reserveren is gewenst. Klik of\nbel 0252 – 41 80 23.
URL:https://wereld-wijnen.com/agendapunt/wijn-spijsavond-27-oktober/
LOCATION:Restaurant De Vier Seizoenen\, Heereweg 224\, Lisse
ATTACH;FMTTYPE=image/jpeg:https://wereld-wijnen.com/wp-content/uploads/2016/02/wijn_en_spijsavond1-e1484646473658.jpg
ORGANIZER;CN="Wereld Wijnen":MAILTO:info@wereld-wijnen.com
END:VEVENT
END:VCALENDAR