BEGIN:VCALENDAR
VERSION:2.0
PRODID:-//Wereldwijnen - ECPv6.15.20//NONSGML v1.0//EN
CALSCALE:GREGORIAN
METHOD:PUBLISH
X-WR-CALNAME:Wereldwijnen
X-ORIGINAL-URL:https://wereld-wijnen.com
X-WR-CALDESC:Evenementen voor Wereldwijnen
REFRESH-INTERVAL;VALUE=DURATION:PT1H
X-Robots-Tag:noindex
X-PUBLISHED-TTL:PT1H
BEGIN:VTIMEZONE
TZID:UTC
BEGIN:STANDARD
TZOFFSETFROM:+0000
TZOFFSETTO:+0000
TZNAME:UTC
DTSTART:20160101T000000
END:STANDARD
END:VTIMEZONE
BEGIN:VEVENT
DTSTART;TZID=UTC:20170528T133000
DTEND;TZID=UTC:20170528T170000
DTSTAMP:20260425T042532
CREATED:20170125T182857Z
LAST-MODIFIED:20170220T134529Z
UID:3795-1495978200-1495990800@wereld-wijnen.com
SUMMARY:Voorjaars-Proeverij Wereld Wijnen
DESCRIPTION:Voorjaars-proeverij \nGraag nodigen wij u uit voor deze heerlijke (wijn) middag. \nVan 13.30 tot 17.00 staan er 35 wijnen voor u open. \nWat kunt u verder verwachten. \nHeerlijke broden van Ammerlaan.\nHapjes van Restaurant De Vier Seizoenen.\nMasterclass: Elzas\nOlijf olie en heerlijke Italiaanse lekkernijen.\nUiteraard kunt u uw favorieten wijn bestellen.\nEen middag die u niet wilt missen en de entree is gratis bij reservering. \nOok dit jaar is er weer een masterclass.\nVan 13.00 tot 14.00 laten wij u genieten van 6 bijzondere wijnen\nmet als thema: De Elzas “proef het Paradijs”\nwelke we samen met u gaan proeven en beoordelen.\nDe plaatsen voor de masterclass zijn beperkt\, maar na 14.00 staan de wijnen ook op de tafels. \nGraag bij reservering even vermelden als u gebruik wilt maken van de masterclass.\nreserveren: info@wereld-wijnen.com\n Tel: 0612277605 \nLocatie:\nRestaurant De Vier Seizoenen\, Lisse
URL:https://wereld-wijnen.com/agendapunt/voorjaars-proeverij-wereld-wijnen/
LOCATION:Restaurant De Vier Seizoenen\, Heereweg 224\, Lisse
ORGANIZER;CN="Wereld Wijnen":MAILTO:info@wereld-wijnen.com
END:VEVENT
END:VCALENDAR