BEGIN:VCALENDAR
VERSION:2.0
PRODID:-//Wereldwijnen - ECPv6.15.20//NONSGML v1.0//EN
CALSCALE:GREGORIAN
METHOD:PUBLISH
X-WR-CALNAME:Wereldwijnen
X-ORIGINAL-URL:https://wereld-wijnen.com
X-WR-CALDESC:Evenementen voor Wereldwijnen
REFRESH-INTERVAL;VALUE=DURATION:PT1H
X-Robots-Tag:noindex
X-PUBLISHED-TTL:PT1H
BEGIN:VTIMEZONE
TZID:UTC
BEGIN:STANDARD
TZOFFSETFROM:+0000
TZOFFSETTO:+0000
TZNAME:UTC
DTSTART:20150101T000000
END:STANDARD
END:VTIMEZONE
BEGIN:VEVENT
DTSTART;TZID=UTC:20161106T133000
DTEND;TZID=UTC:20161106T170000
DTSTAMP:20260425T144326
CREATED:20160908T202148Z
LAST-MODIFIED:20161003T081856Z
UID:3657-1478439000-1478451600@wereld-wijnen.com
SUMMARY:Wijnproeverij Wereld Wijnen - 6 november
DESCRIPTION:Najaars-proeverij \nGraag nodigen wij u uit voor deze heerlijke (wijn) middag. \nVan 13.30 tot 17.00 staan er 35 wijnen voor u open. \nWat kunt u verder verwachten. \nHeerlijke broden van Ammerlaan.\nMasterclass Louis Jadot.\nOlijf olie en heerlijke Italiaanse lekkernijen.\nUiteraard kunt u uw favorieten wijn bestellen.\nEen middag die u niet wilt missen en de entree is gratis bij reservering. \nOok dit jaar is er weer een masterclass.\nVan 13.00 tot 14.00 laten wij u genieten van 6 bijzondere wijnen\nmet als thema: Louis Jadot Bourgogne..\nen samen met u gaan proeven en beoordelen.\nDe plaatsen voor de masterclass zijn beperkt\, maar na 14.00 staan de wijnen ook op de tafels. \nGraag bij reservering even vermelden als u gebruik wilt maken van de masterclass.\nreserveren: info@wereld-wijnen.com\n Tel: 0612277605 \nLocatie:\nKoethuis Landgoed Keukenhof\, Lisse \n \n\n 
URL:https://wereld-wijnen.com/agendapunt/wijnproeverij-wereld-wijnen-6-november/
LOCATION:Landgoed Keukenhof\, Keukenhof 1\, Lisse\, Nederland
ATTACH;FMTTYPE=image/jpeg:https://wereld-wijnen.com/wp-content/uploads/2016/09/melissa-tennis-007.jpg
ORGANIZER;CN="Wereld Wijnen":MAILTO:info@wereld-wijnen.com
END:VEVENT
END:VCALENDAR