BEGIN:VCALENDAR
VERSION:2.0
PRODID:-//Wereldwijnen - ECPv6.15.20//NONSGML v1.0//EN
CALSCALE:GREGORIAN
METHOD:PUBLISH
X-ORIGINAL-URL:https://wereld-wijnen.com
X-WR-CALDESC:Evenementen voor Wereldwijnen
REFRESH-INTERVAL;VALUE=DURATION:PT1H
X-Robots-Tag:noindex
X-PUBLISHED-TTL:PT1H
BEGIN:VTIMEZONE
TZID:UTC
BEGIN:STANDARD
TZOFFSETFROM:+0000
TZOFFSETTO:+0000
TZNAME:UTC
DTSTART:20150101T000000
END:STANDARD
END:VTIMEZONE
BEGIN:VEVENT
DTSTART;TZID=UTC:20160610T190000
DTEND;TZID=UTC:20160610T190000
DTSTAMP:20260425T224138
CREATED:20160601T161508Z
LAST-MODIFIED:20160908T134308Z
UID:3630-1465585200-1465585200@wereld-wijnen.com
SUMMARY:Wijn-spijsavond bij De Vier Seizoenen te Lisse
DESCRIPTION:Een zomerse avond met een heerlijke wijnen en een mooi 5 gangen menu. \nWij gaan de uitdaging aan om met 5 gangen de mooiste wijn-spijscombinatie te zoeken.\nWe selecteren 10 zomerse wijnen die we met elkaar gaan proeven bij de gerechten. \nEen educatieve maar vooral smakelijke avond. \nNieuwsgierig naar het menu? \nAanmelden en aanvullende informatie klik hier\nWijn-spijsavond
URL:https://wereld-wijnen.com/agendapunt/wijn-spijsavond-vier-seizoenen-lisse/
LOCATION:Restaurant De Vier Seizoenen\, Heereweg 224\, Lisse
ORGANIZER;CN="Wereld Wijnen":MAILTO:info@wereld-wijnen.com
END:VEVENT
BEGIN:VEVENT
DTSTART;TZID=UTC:20160619T133000
DTEND;TZID=UTC:20160619T133000
DTSTAMP:20260425T224138
CREATED:20160601T162435Z
LAST-MODIFIED:20160908T134242Z
UID:3632-1466343000-1466343000@wereld-wijnen.com
SUMMARY:19 juni Vaderdag \, Lazysunday
DESCRIPTION:Lazy Sunday Afternoon\n \nMet plezier presenteren wij ons culinaire evenement: Lazy Sunday Afternoon. Op Vaderdag zondagmiddag 19 juni zal er weer feestelijke Lazy Sunday Afternoon plaatsvinden; de eerste Lazy Sunday Afternoon in 2016. \nWat kan u verwachten deze middag? Een heerlijke ‘luie’ zondagmiddag die om 14.00 uur begint en om 17.30 uur eindigt. En tijdens deze middag kunt u genieten van: \n• Ontvangst met bruisend aperatief\n• Heerlijke wijnen van Wereld Wijnen.\n• Tafel met  “live” gerolde sushi.\n• De oesterman met vers gestoken Franse oesters.\n• Tafel met buitenlandse kazen van Pieter Joustra kaashandel.\n• Tafel met heerlijke broodspecialiteiten met olijfolie en tappenades.\n• diverse vlees-\, visgerechtjes van de Green Egg barbeque.\n• Stampotjes.\n• Tafel met diverse fruit specialiteiten. \nMaar onze Lazy Sunday Afternoon heeft nog veel meer te bieden. Zo is er live muziek van de Afternooners en voor de kosten hoeft u het niet te laten voor slechts € 52\,50 p.p viert deze Sunday met ons mee. \nReserveren:\nklik op Lazy Sunday
URL:https://wereld-wijnen.com/agendapunt/19-juni-vaderdag-lazysunday/
LOCATION:Restaurant De Vier Seizoenen\, Heereweg 224\, Lisse
ORGANIZER;CN="Wereld Wijnen":MAILTO:info@wereld-wijnen.com
END:VEVENT
BEGIN:VEVENT
DTSTART;TZID=UTC:20160623T193000
DTEND;TZID=UTC:20160623T221500
DTSTAMP:20260425T224138
CREATED:20160302T123952Z
LAST-MODIFIED:20160908T134334Z
UID:3594-1466710200-1466720100@wereld-wijnen.com
SUMMARY:Workshop brood en wijn
DESCRIPTION:In de vernieuwde winkel van bakker Ammerlaan in Lisse (blokhuis)\norganiseren wij een unieke workshop. \nSamen met Wesley Ammerlaan gaan we samen met u wijnproeven\, broden bakken\nen sluiten we af met een wijn-spijsproeverij brood en wijn. \nVan 19.30 tot 22.00 nemen we u mee in de wereld van brood en wijn. \nDatum: 23 juni\nThema: Brood en wijn \nInschrijven: via info@wereld-wijnen.com \nEr zijn maar 12 plaatsen per avond dus wees er snel bij! \nPrijs: € 30.- p.p.
URL:https://wereld-wijnen.com/agendapunt/workshop-brood-en-wijn-2/
LOCATION:Ammerlaan\, Herenstraat 112\, Voorhout\, zuid holland\, 2215 kk\, Nederland
ORGANIZER;CN="Wereld Wijnen":MAILTO:info@wereld-wijnen.com
END:VEVENT
END:VCALENDAR