BEGIN:VCALENDAR
VERSION:2.0
PRODID:-//Wereldwijnen - ECPv6.15.20//NONSGML v1.0//EN
CALSCALE:GREGORIAN
METHOD:PUBLISH
X-WR-CALNAME:Wereldwijnen
X-ORIGINAL-URL:https://wereld-wijnen.com
X-WR-CALDESC:Evenementen voor Wereldwijnen
REFRESH-INTERVAL;VALUE=DURATION:PT1H
X-Robots-Tag:noindex
X-PUBLISHED-TTL:PT1H
BEGIN:VTIMEZONE
TZID:Europe/Amsterdam
BEGIN:DAYLIGHT
TZOFFSETFROM:+0100
TZOFFSETTO:+0200
TZNAME:CEST
DTSTART:20250330T010000
END:DAYLIGHT
BEGIN:STANDARD
TZOFFSETFROM:+0200
TZOFFSETTO:+0100
TZNAME:CET
DTSTART:20251026T010000
END:STANDARD
BEGIN:DAYLIGHT
TZOFFSETFROM:+0100
TZOFFSETTO:+0200
TZNAME:CEST
DTSTART:20260329T010000
END:DAYLIGHT
BEGIN:STANDARD
TZOFFSETFROM:+0200
TZOFFSETTO:+0100
TZNAME:CET
DTSTART:20261025T010000
END:STANDARD
BEGIN:DAYLIGHT
TZOFFSETFROM:+0100
TZOFFSETTO:+0200
TZNAME:CEST
DTSTART:20270328T010000
END:DAYLIGHT
BEGIN:STANDARD
TZOFFSETFROM:+0200
TZOFFSETTO:+0100
TZNAME:CET
DTSTART:20271031T010000
END:STANDARD
END:VTIMEZONE
BEGIN:VEVENT
DTSTART;TZID=Europe/Amsterdam:20260419T153000
DTEND;TZID=Europe/Amsterdam:20260419T200000
DTSTAMP:20260421T104935
CREATED:20260306T112130Z
LAST-MODIFIED:20260306T112417Z
UID:7361-1776612600-1776628800@wereld-wijnen.com
SUMMARY:Chateau Cineac 19 april 2026
DESCRIPTION:Na de succesvolle editie in 2024 is Chateau Cineac weer terug en op zondag 19 april 2026 vanaf 15:30 uur voor u geopend! \nDit is een unieke samenwerking van Wereld Wijnen en Cinema Floralis/Grand Café Cineac Lisse. \nProgramma: \n\nStart met bubbel en zoute popcorn\nGeniet van de net uitgekomen film ‘Champagne’\nPauze met champagne en verse oesters\nNa de film een walking diner en wijnproeverij in het restaurant! U gaat genieten van verschillende wijnen en bij alles natuurlijk een bijpassend mooi gerecht.\n\nGeniet van deze volledige wijn- en spijsavond met als klap op de vuurpijl de net uitgekomen film ‘Champagne’ met Huub Stapel en Leo Alkemade. \nPrijs all-In: Euro 75\,00 \nReserveren kan via de website van Floralis Lisse. \nFilm: \nWanneer Maarten (Leo Alkemade) te horen krijgt dat zijn vader Hans (Huub Stapel) ongeneeslijk ziek is\, besluit hij hem mee te nemen naar de champagnestreek. Hoogtepunt van de trip is het treintje dat door de wijnkelders van Epernay rijdt. Een einddoel dat voor Hans\, die graag van een drankje geniet\, een soort reis naar de hemel is. Maartens vrouw Loes (Jennifer Hoffman) en zijn moeder Sophie (Beppie Melissen) zwaaien de twee mannen uit. Ze vertrekken vol goede moed\, om er na twee straten achter te komen dat zij waarschijnlijk de minst geschikte vader en zoon ooit zijn voor deze bonding-trip. Terwijl de gesprekken in de auto stroef verlopen\, vinden ze elkaar vooral tijdens de culinaire uitspattingen in lokale restaurants. Hun oude patronen blijven hen achtervolgen\, maar juist de kleine\, onverwachte momenten brengen de twee dichter bij elkaar.
URL:https://wereld-wijnen.com/agendapunt/chateau-cineac-19-april-2026/
LOCATION:Bioscoop Floralis\, Floralisplein 69\, Lisse\, Zuid Holland\, 2161 HX\, Nederland
ATTACH;FMTTYPE=image/png:https://wereld-wijnen.com/wp-content/uploads/2026/03/chateau-cineac-2026.png
ORGANIZER;CN="Wereld Wijnen":MAILTO:info@wereld-wijnen.com
END:VEVENT
END:VCALENDAR