BEGIN:VCALENDAR
VERSION:2.0
PRODID:-//Wereldwijnen - ECPv6.15.20//NONSGML v1.0//EN
CALSCALE:GREGORIAN
METHOD:PUBLISH
X-WR-CALNAME:Wereldwijnen
X-ORIGINAL-URL:https://wereld-wijnen.com
X-WR-CALDESC:Evenementen voor Wereldwijnen
REFRESH-INTERVAL;VALUE=DURATION:PT1H
X-Robots-Tag:noindex
X-PUBLISHED-TTL:PT1H
BEGIN:VTIMEZONE
TZID:Europe/Amsterdam
BEGIN:DAYLIGHT
TZOFFSETFROM:+0100
TZOFFSETTO:+0200
TZNAME:CEST
DTSTART:20190331T010000
END:DAYLIGHT
BEGIN:STANDARD
TZOFFSETFROM:+0200
TZOFFSETTO:+0100
TZNAME:CET
DTSTART:20191027T010000
END:STANDARD
BEGIN:DAYLIGHT
TZOFFSETFROM:+0100
TZOFFSETTO:+0200
TZNAME:CEST
DTSTART:20200329T010000
END:DAYLIGHT
BEGIN:STANDARD
TZOFFSETFROM:+0200
TZOFFSETTO:+0100
TZNAME:CET
DTSTART:20201025T010000
END:STANDARD
BEGIN:DAYLIGHT
TZOFFSETFROM:+0100
TZOFFSETTO:+0200
TZNAME:CEST
DTSTART:20210328T010000
END:DAYLIGHT
BEGIN:STANDARD
TZOFFSETFROM:+0200
TZOFFSETTO:+0100
TZNAME:CET
DTSTART:20211031T010000
END:STANDARD
END:VTIMEZONE
BEGIN:VEVENT
DTSTART;TZID=Europe/Amsterdam:20201212T193000
DTEND;TZID=Europe/Amsterdam:20201212T220000
DTSTAMP:20260422T030647
CREATED:20201124T195440Z
LAST-MODIFIED:20201124T204153Z
UID:6426-1607801400-1607810400@wereld-wijnen.com
SUMMARY:Wijn-Quizz 12 december
DESCRIPTION:We weten het allemaal\, de decembermaand zal anders zijn dan andere jaren. Maar daarom niet minder gezellig! Want op zaterdag 12 december presenteren wij\, in samenwerking met WereldWijnen en Kwis-spelen\, de Grote Online Restaurant Quiz! Het belooft een hele leuke avond te worden\, vol ouderwetse gezelligheid\, lekkere hapjes en uiteraard heerlijke wijn. Kortom een avond die we ons nog lang zullen herinneren! \n  \nWat gaan we doen?  \nVanuit ons restaurant De Vier Seizoenen gaan we live via facebook een quiz spelen. De Grote Online Restaurant Quiz start om 19:30 uur en duurt tot ongeveer 22:00 uur. Het word een gezellige en interactieve avond en uiteraard komen er ook tips aan bod voor de komende feestdagen. We verklappen nog niet te veel\, maar leuk wordt het zeker! \n  \nOp zaterdag 12 december tussen 12:00 en 18:00 uur kunnen jullie het pakket gevuld met wijnen en heerlijke happen bij ons ophalen aan de Heereweg 224 2161 BR in Lisse. Uiteraard zit hier ook een speluitleg en -formulier bij. \n  \nHoe kan je meedoen? \nInschrijven kan vanaf nu via e-mail restaurant@rdvs.nl of telefoon 0252-418023. De prijs is € 25\,- p.p. en minimale deelname is 2 personen. Inschrijven kan tot uiterlijk 10 december\, dus wacht niet te lang! \n 
URL:https://wereld-wijnen.com/agendapunt/wijn-quizz-12-december/
LOCATION:Restaurant De Vier Seizoenen\, Heereweg 224\, Lisse
END:VEVENT
END:VCALENDAR