BEGIN:VCALENDAR
VERSION:2.0
PRODID:-//Wereldwijnen - ECPv6.15.20//NONSGML v1.0//EN
CALSCALE:GREGORIAN
METHOD:PUBLISH
X-ORIGINAL-URL:https://wereld-wijnen.com
X-WR-CALDESC:Evenementen voor Wereldwijnen
REFRESH-INTERVAL;VALUE=DURATION:PT1H
X-Robots-Tag:noindex
X-PUBLISHED-TTL:PT1H
BEGIN:VTIMEZONE
TZID:UTC
BEGIN:STANDARD
TZOFFSETFROM:+0000
TZOFFSETTO:+0000
TZNAME:UTC
DTSTART:20190101T000000
END:STANDARD
END:VTIMEZONE
BEGIN:VEVENT
DTSTART;TZID=UTC:20200922T180000
DTEND;TZID=UTC:20200922T223000
DTSTAMP:20260422T081009
CREATED:20200909T103550Z
LAST-MODIFIED:20200909T103800Z
UID:5071-1600797600-1600813800@wereld-wijnen.com
SUMMARY:Carpaccio en wijn bij restaurant De Buren in Lisse
DESCRIPTION:Carpaccio\, wijn\, quizzzz \nDinsdag 22 September zullen wij bij restaurant De Buren in Lisse een heerlijk avondje uit verzorgen.\nEen 4 gangen carpaccio menu met bijzondere variatie.\nDaar zoeken wij de passende wijn bij en vertellen per gerecht welke 2 wijnen er goed bij combineren.\nUiteraard serveren wij de wijnen bij de gerechten.\nEen echte avond uit !.\nWe sluiten af met een kleine Wijn-Quiz en testen zo of jullie lekker geproefd en gegeten hebben.\nDit 4 gangen menu is incl. elke gang 2 glazen wijn koffie en aperitief all-in. \nReserveren kan via\ninfo@wereld-wijnen.com
URL:https://wereld-wijnen.com/agendapunt/carpaccio-en-wijn-bij-restaurant-de-buren-in-lisse/
LOCATION:casa carpaccio\, Kanaalstraat 104-106-108\, Lisse\, 2161 JR
ATTACH;FMTTYPE=image/jpeg:https://wereld-wijnen.com/wp-content/uploads/2018/11/herfst-wijn-1.jpg
ORGANIZER;CN="Wereld Wijnen":MAILTO:info@wereld-wijnen.com
END:VEVENT
END:VCALENDAR