BEGIN:VCALENDAR
VERSION:2.0
PRODID:-//Wereldwijnen - ECPv6.15.20//NONSGML v1.0//EN
CALSCALE:GREGORIAN
METHOD:PUBLISH
X-WR-CALNAME:Wereldwijnen
X-ORIGINAL-URL:https://wereld-wijnen.com
X-WR-CALDESC:Evenementen voor Wereldwijnen
REFRESH-INTERVAL;VALUE=DURATION:PT1H
X-Robots-Tag:noindex
X-PUBLISHED-TTL:PT1H
BEGIN:VTIMEZONE
TZID:UTC
BEGIN:STANDARD
TZOFFSETFROM:+0000
TZOFFSETTO:+0000
TZNAME:UTC
DTSTART:20190101T000000
END:STANDARD
END:VTIMEZONE
BEGIN:VEVENT
DTSTART;TZID=UTC:20200307T173000
DTEND;TZID=UTC:20200328T235900
DTSTAMP:20260422T195548
CREATED:20200121T093304Z
LAST-MODIFIED:20200220T093510Z
UID:4709-1583602200-1585439940@wereld-wijnen.com
SUMMARY:Maart Wijn-Bar Haven 4!!!
DESCRIPTION:Wereldse wijn-bar\nLocatie Haven 4 Lisse.\nGratis Entree \nElk weekend in maart vanaf 17.30\, meer dan 40 open wijnen\, verse sappen\, biertjes\nen live muziek op vrijdag.\nEcht een avondje uit voor de wijnliefhebber! \nPop-up in de maand maart.\nMeer weten? \n 
URL:https://wereld-wijnen.com/agendapunt/maart-wijn-bar-haven-4/
LOCATION:haven 4\, Haven 4\, Lisse\, Zuid Holland\, 2161 hk\, Nederland
ATTACH;FMTTYPE=image/jpeg:https://wereld-wijnen.com/wp-content/uploads/2019/09/IMG_8156.jpeg
ORGANIZER;CN="Wereld Wijnen":MAILTO:info@wereld-wijnen.com
END:VEVENT
END:VCALENDAR