BEGIN:VCALENDAR
VERSION:2.0
PRODID:-//Wereldwijnen - ECPv6.15.20//NONSGML v1.0//EN
CALSCALE:GREGORIAN
METHOD:PUBLISH
X-ORIGINAL-URL:https://wereld-wijnen.com
X-WR-CALDESC:Evenementen voor Wereldwijnen
REFRESH-INTERVAL;VALUE=DURATION:PT1H
X-Robots-Tag:noindex
X-PUBLISHED-TTL:PT1H
BEGIN:VTIMEZONE
TZID:UTC
BEGIN:STANDARD
TZOFFSETFROM:+0000
TZOFFSETTO:+0000
TZNAME:UTC
DTSTART:20170101T000000
END:STANDARD
END:VTIMEZONE
BEGIN:VEVENT
DTSTART;TZID=UTC:20181006T183000
DTEND;TZID=UTC:20181006T230000
DTSTAMP:20260424T002118
CREATED:20180830T052843Z
LAST-MODIFIED:20180922T110848Z
UID:4148-1538850600-1538866800@wereld-wijnen.com
SUMMARY:Wijn-spijsavond in het Fort Vijfhuizen
DESCRIPTION:Een culinaire reis in een historische omgeving. \nEen heerlijk 4 gangen diner met bij elk gerecht 2 bijpassende wijnen.\nmeer informatie volgt.
URL:https://wereld-wijnen.com/agendapunt/wijn-spijsavond-in-het-fort-vijfhuizen/
LOCATION:Fort Vijfhuizen\, Fortwachter 3\, Vijfhuizen\, Noord Holland\, 2141 EE\, Nederland
ATTACH;FMTTYPE=image/jpeg:https://wereld-wijnen.com/wp-content/uploads/2015/03/800px-Wine_Barrels.jpg
ORGANIZER;CN="Wereld Wijnen":MAILTO:info@wereld-wijnen.com
END:VEVENT
END:VCALENDAR