BEGIN:VCALENDAR
VERSION:2.0
PRODID:-//Wereldwijnen - ECPv6.15.20//NONSGML v1.0//EN
CALSCALE:GREGORIAN
METHOD:PUBLISH
X-WR-CALNAME:Wereldwijnen
X-ORIGINAL-URL:https://wereld-wijnen.com
X-WR-CALDESC:Evenementen voor Wereldwijnen
REFRESH-INTERVAL;VALUE=DURATION:PT1H
X-Robots-Tag:noindex
X-PUBLISHED-TTL:PT1H
BEGIN:VTIMEZONE
TZID:UTC
BEGIN:STANDARD
TZOFFSETFROM:+0000
TZOFFSETTO:+0000
TZNAME:UTC
DTSTART:20170101T000000
END:STANDARD
END:VTIMEZONE
BEGIN:VEVENT
DTSTART;TZID=UTC:20180929T130000
DTEND;TZID=UTC:20180930T190000
DTSTAMP:20260424T020955
CREATED:20180830T051708Z
LAST-MODIFIED:20180830T051708Z
UID:4145-1538226000-1538334000@wereld-wijnen.com
SUMMARY:Wijnfestival op de Olmenhorst
DESCRIPTION:Een heerlijke middag waar wijn het middelpunt van de appelpluk zal zijn. \nDiverse wijnstands\, en hapjes\, muziek zullen de ingrediënten zijn naast de al druk bezochte appelpluk. \nBij de stands kunt u de mooiste biologische wijnen proeven en genieten van een heerlijke dag op dit mooie landgoed.
URL:https://wereld-wijnen.com/agendapunt/wijnfestival-op-de-olmenhorst/
LOCATION:Olmenhorst\, Lisserweg 481\, LISSERBROEK\, noord holland\, 2165 AS\, Nederland
ATTACH;FMTTYPE=image/jpeg:https://wereld-wijnen.com/wp-content/uploads/2015/08/IMG_3548.jpg
ORGANIZER;CN="Wereld Wijnen":MAILTO:info@wereld-wijnen.com
END:VEVENT
END:VCALENDAR