BEGIN:VCALENDAR
VERSION:2.0
PRODID:-//Wereldwijnen - ECPv6.15.20//NONSGML v1.0//EN
CALSCALE:GREGORIAN
METHOD:PUBLISH
X-WR-CALNAME:Wereldwijnen
X-ORIGINAL-URL:https://wereld-wijnen.com
X-WR-CALDESC:Evenementen voor Wereldwijnen
REFRESH-INTERVAL;VALUE=DURATION:PT1H
X-Robots-Tag:noindex
X-PUBLISHED-TTL:PT1H
BEGIN:VTIMEZONE
TZID:UTC
BEGIN:STANDARD
TZOFFSETFROM:+0000
TZOFFSETTO:+0000
TZNAME:UTC
DTSTART:20150101T000000
END:STANDARD
END:VTIMEZONE
BEGIN:VEVENT
DTSTART;TZID=UTC:20161020T193000
DTEND;TZID=UTC:20161020T213000
DTSTAMP:20260425T175156
CREATED:20160908T125827Z
LAST-MODIFIED:20160918T091432Z
UID:3646-1476991800-1476999000@wereld-wijnen.com
SUMMARY:De Wijnquiz - 20 oktober
DESCRIPTION:Een avond voor alle liefhebbers\, genieters\, avonturiers en kenners. \nDeze avond wordt gespeeld in teams van 2 personen. Samen gaan jullie deze smakelijke strijd aan met de ander teams\, het winnende team mag rekenen op een mooi wijnpakket p.p. en natuurlijk de eer !! \nWe zullen er voor zorgen dat het voor elk niveau liefhebber en of kenner een leuke avond is. \nWat kunnen we verwachten: \n– Een gezellige avond \n– Ontvangst met een feestelijk glaasje. \n– De avond onder leiding van Sport verslaggever en (wijn) liefhebber Andy Houtkamp. \n– Leuke vragen waarbij alle zintuigen uitgedaagd worden!! \n– Uiteraard worden eer lekkere hapjes geserveerd tijdens de quiz en zal er voldoende wijn zijn. \n– De quiz duurt van 19.30 tot 22.00 aansluitend de prijsuitreiking. \n– Na afloop zal de “Wijnbar” geopend zijn waar u op eigen kosten de avond kan evalueren. \nLocatie: Haven 4 Lisse \nAanmelden via info@wereld-wijnen.com \nKosten € 35.- p.p.
URL:https://wereld-wijnen.com/agendapunt/wijnquiz-20-oktober/
LOCATION:Zuid Holland
ORGANIZER;CN="Wereld Wijnen":MAILTO:info@wereld-wijnen.com
END:VEVENT
END:VCALENDAR