BEGIN:VCALENDAR
VERSION:2.0
PRODID:-//Wereldwijnen - ECPv6.15.20//NONSGML v1.0//EN
CALSCALE:GREGORIAN
METHOD:PUBLISH
X-WR-CALNAME:Wereldwijnen
X-ORIGINAL-URL:https://wereld-wijnen.com
X-WR-CALDESC:Evenementen voor Wereldwijnen
REFRESH-INTERVAL;VALUE=DURATION:PT1H
X-Robots-Tag:noindex
X-PUBLISHED-TTL:PT1H
BEGIN:VTIMEZONE
TZID:UTC
BEGIN:STANDARD
TZOFFSETFROM:+0000
TZOFFSETTO:+0000
TZNAME:UTC
DTSTART:20150101T000000
END:STANDARD
END:VTIMEZONE
BEGIN:VEVENT
DTSTART;TZID=UTC:20160610T190000
DTEND;TZID=UTC:20160610T190000
DTSTAMP:20260426T002826
CREATED:20160601T161508Z
LAST-MODIFIED:20160908T134308Z
UID:3630-1465585200-1465585200@wereld-wijnen.com
SUMMARY:Wijn-spijsavond bij De Vier Seizoenen te Lisse
DESCRIPTION:Een zomerse avond met een heerlijke wijnen en een mooi 5 gangen menu. \nWij gaan de uitdaging aan om met 5 gangen de mooiste wijn-spijscombinatie te zoeken.\nWe selecteren 10 zomerse wijnen die we met elkaar gaan proeven bij de gerechten. \nEen educatieve maar vooral smakelijke avond. \nNieuwsgierig naar het menu? \nAanmelden en aanvullende informatie klik hier\nWijn-spijsavond
URL:https://wereld-wijnen.com/agendapunt/wijn-spijsavond-vier-seizoenen-lisse/
LOCATION:Restaurant De Vier Seizoenen\, Heereweg 224\, Lisse
ORGANIZER;CN="Wereld Wijnen":MAILTO:info@wereld-wijnen.com
END:VEVENT
END:VCALENDAR