BEGIN:VCALENDAR
VERSION:2.0
PRODID:-//Wereldwijnen - ECPv6.15.20//NONSGML v1.0//EN
CALSCALE:GREGORIAN
METHOD:PUBLISH
X-WR-CALNAME:Wereldwijnen
X-ORIGINAL-URL:https://wereld-wijnen.com
X-WR-CALDESC:Evenementen voor Wereldwijnen
REFRESH-INTERVAL;VALUE=DURATION:PT1H
X-Robots-Tag:noindex
X-PUBLISHED-TTL:PT1H
BEGIN:VTIMEZONE
TZID:UTC
BEGIN:STANDARD
TZOFFSETFROM:+0000
TZOFFSETTO:+0000
TZNAME:UTC
DTSTART:20150101T000000
END:STANDARD
END:VTIMEZONE
BEGIN:VEVENT
DTSTART;TZID=UTC:20160529T133000
DTEND;TZID=UTC:20160529T170000
DTSTAMP:20260426T021710
CREATED:20160226T130344Z
LAST-MODIFIED:20160425T052237Z
UID:3586-1464528600-1464541200@wereld-wijnen.com
SUMMARY:Wijnproeverij Wereld Wijnen
DESCRIPTION:Voorjaars-proeverij \nGraag nodigen wij u uit voor deze heerlijke (wijn) middag. \nVan 13.30 tot 17.00 staan er 35 wijnen voor u open. \nWat kunt u verder verwachten. \nHeerlijke broden van Ammerlaan.\nMooie hapjes van Restaurant de Vier Seizoenen.\nOlijf olie en heerlijke Italiaanse lekkernijen.\nUiteraard kunt u uw favorieten wijn bestellen.\nEen middag die u niet wilt missen en de entree is gratis bij reservering. \nOok dit jaar is er weer een masterclass.\nVan 13.00 tot 14.00 laten wij u genieten van 6 bijzondere wijnen die wij extra onder de aandacht brengen\nen samen met u gaan proeven en beoordelen.\nDe plaatsen voor de masterclass zijn beperkt\, maar na 14.00 staan de wijnen ook op de tafels. \nGraag bij reservering even vermelden als u gebruik wilt maken van de masterclass.\nreserveren: info@wereld-wijnen.com\n Tel: 0612277605 \nLocatie: Restaurant De Vier Seizoenen\, Lisse
URL:https://wereld-wijnen.com/agendapunt/wijnproeverij-wereld-wijnen/
LOCATION:Restaurant De Vier Seizoenen\, Heereweg 224\, Lisse
ATTACH;FMTTYPE=image/jpeg:https://wereld-wijnen.com/wp-content/uploads/2015/09/Druiven-e1484646155974.jpg
ORGANIZER;CN="Wereld Wijnen":MAILTO:info@wereld-wijnen.com
END:VEVENT
END:VCALENDAR